BEGIN:VCALENDAR
VERSION:2.0
PRODID:-//Windy City Corvettes - ECPv6.15.20//NONSGML v1.0//EN
CALSCALE:GREGORIAN
METHOD:PUBLISH
X-WR-CALNAME:Windy City Corvettes
X-ORIGINAL-URL:https://windycitycorvettes.com
X-WR-CALDESC:Events for Windy City Corvettes
REFRESH-INTERVAL;VALUE=DURATION:PT1H
X-Robots-Tag:noindex
X-PUBLISHED-TTL:PT1H
BEGIN:VTIMEZONE
TZID:America/Chicago
BEGIN:DAYLIGHT
TZOFFSETFROM:-0600
TZOFFSETTO:-0500
TZNAME:CDT
DTSTART:20250309T080000
END:DAYLIGHT
BEGIN:STANDARD
TZOFFSETFROM:-0500
TZOFFSETTO:-0600
TZNAME:CST
DTSTART:20251102T070000
END:STANDARD
BEGIN:DAYLIGHT
TZOFFSETFROM:-0600
TZOFFSETTO:-0500
TZNAME:CDT
DTSTART:20260308T080000
END:DAYLIGHT
BEGIN:STANDARD
TZOFFSETFROM:-0500
TZOFFSETTO:-0600
TZNAME:CST
DTSTART:20261101T070000
END:STANDARD
BEGIN:DAYLIGHT
TZOFFSETFROM:-0600
TZOFFSETTO:-0500
TZNAME:CDT
DTSTART:20270314T080000
END:DAYLIGHT
BEGIN:STANDARD
TZOFFSETFROM:-0500
TZOFFSETTO:-0600
TZNAME:CST
DTSTART:20271107T070000
END:STANDARD
END:VTIMEZONE
BEGIN:VEVENT
DTSTART;TZID=America/Chicago:20260421T190000
DTEND;TZID=America/Chicago:20260421T210000
DTSTAMP:20260421T012845
CREATED:20251025T150631Z
LAST-MODIFIED:20251025T150631Z
UID:16861-1776798000-1776805200@windycitycorvettes.com
SUMMARY:Monthly Membership Meeting - American Legion Post\, New Lenox\, IL
DESCRIPTION:
URL:https://windycitycorvettes.com/event/monthly-membership-meeting-american-legion-post-new-lenox-il-24/
LOCATION:American Legion Post 1977\, 14414 W. Ford Dr.\, New Lenox\, IL\, 60451\, United States
CATEGORIES:Membership Meeting
END:VEVENT
END:VCALENDAR