BEGIN:VCALENDAR
VERSION:2.0
PRODID:-//Windy City Corvettes - ECPv6.15.20//NONSGML v1.0//EN
CALSCALE:GREGORIAN
METHOD:PUBLISH
X-ORIGINAL-URL:https://windycitycorvettes.com
X-WR-CALDESC:Events for Windy City Corvettes
REFRESH-INTERVAL;VALUE=DURATION:PT1H
X-Robots-Tag:noindex
X-PUBLISHED-TTL:PT1H
BEGIN:VTIMEZONE
TZID:America/Chicago
BEGIN:DAYLIGHT
TZOFFSETFROM:-0600
TZOFFSETTO:-0500
TZNAME:CDT
DTSTART:20240310T080000
END:DAYLIGHT
BEGIN:STANDARD
TZOFFSETFROM:-0500
TZOFFSETTO:-0600
TZNAME:CST
DTSTART:20241103T070000
END:STANDARD
BEGIN:DAYLIGHT
TZOFFSETFROM:-0600
TZOFFSETTO:-0500
TZNAME:CDT
DTSTART:20250309T080000
END:DAYLIGHT
BEGIN:STANDARD
TZOFFSETFROM:-0500
TZOFFSETTO:-0600
TZNAME:CST
DTSTART:20251102T070000
END:STANDARD
BEGIN:DAYLIGHT
TZOFFSETFROM:-0600
TZOFFSETTO:-0500
TZNAME:CDT
DTSTART:20260308T080000
END:DAYLIGHT
BEGIN:STANDARD
TZOFFSETFROM:-0500
TZOFFSETTO:-0600
TZNAME:CST
DTSTART:20261101T070000
END:STANDARD
END:VTIMEZONE
BEGIN:VEVENT
DTSTART;TZID=America/Chicago:20250802T080000
DTEND;TZID=America/Chicago:20250802T140000
DTSTAMP:20260420T211214
CREATED:20250108T200323Z
LAST-MODIFIED:20250319T145454Z
UID:15687-1754121600-1754143200@windycitycorvettes.com
SUMMARY:Charity Fund Raising (All Make and Model) Car Show
DESCRIPTION:Event information flyer can be found at the link below: \nAugust 2 Event Flyer \nJoin us Saturday\, August 2\, 2025 at the Illinois Veterans Home\, Manteno\, Illinois for a charity fundraising car show open to all makes and model cars.  \nThis is a non-sanctioned Car show hosted by Windy City Corvettes. \n 
URL:https://windycitycorvettes.com/event/charity-fund-raising-all-make-and-model-car-show/
LOCATION:Illinois Veterans Home\, Manteno\, IL\, 1 Veteran's Dr\,\, Manteno\,\, IL\, 60950\, United States
CATEGORIES:Cruise Night
END:VEVENT
END:VCALENDAR