BEGIN:VCALENDAR
VERSION:2.0
PRODID:-//Windy City Corvettes - ECPv6.15.20//NONSGML v1.0//EN
CALSCALE:GREGORIAN
METHOD:PUBLISH
X-ORIGINAL-URL:https://windycitycorvettes.com
X-WR-CALDESC:Events for Windy City Corvettes
REFRESH-INTERVAL;VALUE=DURATION:PT1H
X-Robots-Tag:noindex
X-PUBLISHED-TTL:PT1H
BEGIN:VTIMEZONE
TZID:America/Indiana/Indianapolis
BEGIN:DAYLIGHT
TZOFFSETFROM:-0500
TZOFFSETTO:-0400
TZNAME:EDT
DTSTART:20230312T070000
END:DAYLIGHT
BEGIN:STANDARD
TZOFFSETFROM:-0400
TZOFFSETTO:-0500
TZNAME:EST
DTSTART:20231105T060000
END:STANDARD
BEGIN:DAYLIGHT
TZOFFSETFROM:-0500
TZOFFSETTO:-0400
TZNAME:EDT
DTSTART:20240310T070000
END:DAYLIGHT
BEGIN:STANDARD
TZOFFSETFROM:-0400
TZOFFSETTO:-0500
TZNAME:EST
DTSTART:20241103T060000
END:STANDARD
BEGIN:DAYLIGHT
TZOFFSETFROM:-0500
TZOFFSETTO:-0400
TZNAME:EDT
DTSTART:20250309T070000
END:DAYLIGHT
BEGIN:STANDARD
TZOFFSETFROM:-0400
TZOFFSETTO:-0500
TZNAME:EST
DTSTART:20251102T060000
END:STANDARD
END:VTIMEZONE
BEGIN:VEVENT
DTSTART;VALUE=DATE:20240413
DTEND;VALUE=DATE:20240415
DTSTAMP:20260420T111857
CREATED:20240117T225239Z
LAST-MODIFIED:20240220T143705Z
UID:13302-1712966400-1713139199@windycitycorvettes.com
SUMMARY:NCCC 14 Event Weekend Autocross
DESCRIPTION:WCC Flyer2024TireRack \n  \nClick link above for event flyer and registration information
URL:https://windycitycorvettes.com/event/nccc-14-event-weekend-autocross/
LOCATION:Tire Rack\, 7101 Vorden Pkwy\,\, South Bend\, IN\, 46628\, United States
CATEGORIES:National Council of Corvette Clubs Event
END:VEVENT
END:VCALENDAR